BEGIN:VCALENDAR
VERSION:2.0
CALSCALE:GREGORIAN
METHOD:PUBLISH
X-WR-TIMEZONE:Australia/Sydney
BEGIN:VTIMEZONE
TZID:Australia/Sydney
BEGIN:STANDARD
TZNAME:AEST
DTSTART:19700101T000000
TZOFFSETFROM:+1100
TZOFFSETTO:+1000
END:STANDARD
END:VTIMEZONE
BEGIN:VEVENT
DTSTART;TZID=Australia/Sydney:20260321T173000
DTEND;TZID=Australia/Sydney:20260321T213000
DTSTAMP:20260420T185821
UID:1330
SUMMARY:NASHS School Ball 
DESCRIPTION:




Step into a night of stars and shimmering skies as we celebrate our Year 12 students with an enchanting, celestial‑themed evening. This special event marks an important milestone for the Class of 2026 and promises to be a memorable night for all.
When: Saturday 21 March from 6.00pm&amp;nbsp;Where: Albany Entertainment CentreTickets:

Available for purchase via Compass or through Student Services.
Students may also use NAV points to pay for part of their ticket cost.




SEQUENCE:0
STATUS:CONFIRMED
TRANSP:OPAQUE
END:VEVENT
END:VCALENDAR